BEGIN:VCALENDAR
VERSION:2.0
PRODID:-//jEvents 2.0 for Joomla//EN
CALSCALE:GREGORIAN
METHOD:PUBLISH
BEGIN:VEVENT
UID:fe47a194e20ca7b17d4b3e2dae64423e
CATEGORIES:Seminare
CREATED:20240426T170831
SUMMARY:Neuzüchterseminar
LOCATION:Hotel "Zur Schmiede" Alsfeld-Eudorf Ziegenhainer Str. 26
DESCRIPTION:Referent ist Hartmut Mohr\n
X-ALT-DESC;FMTTYPE=text/html:<p>Referent ist Hartmut Mohr</p>
DTSTAMP:20260424T143548
DTSTART:20240526T080000
DTEND:20240526T150000
SEQUENCE:0
TRANSP:OPAQUE
END:VEVENT
END:VCALENDAR