BEGIN:VCALENDAR
VERSION:2.0
PRODID:-//jEvents 2.0 for Joomla//EN
CALSCALE:GREGORIAN
METHOD:PUBLISH
BEGIN:VEVENT
UID:23ec40ecb98364ee371d99fa645206db
CATEGORIES:Ausstellungen
CREATED:20240828T122814
SUMMARY:IGS-Sonderschau Karlsruhe (I)
LOCATION:Karlsruhe
DESCRIPTION:Richterin: Beate Nobis\nSonderleiterin: Christiane Weingarte\n
X-ALT-DESC;FMTTYPE=text/html:<p>Richterin: Beate Nobis</p><p>Sonderleiterin: Christiane Weingarte</p>
CONTACT:https://www.vdhbw.de/vdh-bw/aktuelles/meldungen/2025-12-06-karlsruhe.php?navid=218002218002
DTSTAMP:20260419T191457
DTSTART;VALUE=DATE:20251130
DTEND;VALUE=DATE:20251201
SEQUENCE:0
TRANSP:OPAQUE
END:VEVENT
END:VCALENDAR