BEGIN:VCALENDAR
VERSION:2.0
PRODID:-//jEvents 2.0 for Joomla//EN
CALSCALE:GREGORIAN
METHOD:PUBLISH
BEGIN:VEVENT
UID:97b02a40bb199da9328e8a99819479b5
CATEGORIES:Ausstellungen
CREATED:20240828T123148
SUMMARY:IGS-Sonderschau Dortmund (I)
LOCATION:Messe Dortmund
DESCRIPTION:Richter: Wilfried Knickmeier\nSonderleitung: \n
X-ALT-DESC;FMTTYPE=text/html:<p><span style="font-size: 12pt;">Richter: Wilfried Knickmeier</span></p><p
 ><span style="font-size: 12pt;">Sonderleitung: </span></p>
DTSTAMP:20260419T161742
DTSTART;VALUE=DATE:20251109
DTEND;VALUE=DATE:20251110
SEQUENCE:0
TRANSP:OPAQUE
END:VEVENT
END:VCALENDAR