BEGIN:VCALENDAR
VERSION:2.0
PRODID:-//jEvents 2.0 for Joomla//EN
CALSCALE:GREGORIAN
METHOD:PUBLISH
BEGIN:VEVENT
UID:f07ed797aa83ebc1acc78e19b37e9dab
CATEGORIES:Seminare
CREATED:20241208T100722
SUMMARY:Workshop zum Thema "Feragen und der Nutzen für die Zucht"
LOCATION:Online 
DESCRIPTION:Weiterbildung:\nDer Termin für den zweiten Online-Workshop zum Thema "Wie k
 ann ich die Ergebnisse der Feragen-Auswertungen für die Zucht nutzen?" steh
 t nun fest: 15. Januar 2025 ab 19.30 Uhr.\nAnmeldung für IGS-Mitglieder per
  Mail an den Webmaster (javascript:/* Diese E-Mail Adresse ist vor Spambots
  geschützt.*/)RegularLabs.EmailProtector.unCloak("ep_2947e554", true);\nSie
  bekommen anschliessend eine Mail mit den Login-Daten für das Teams-Meeting
 . Die Installation von Software ist nicht erforderlich.\nIm Seminar melden 
 Sie sich bitte mit vollständigem Vor-und Zunamen an. Spitz-, Kurz- oder Ali
 asnamen sind nicht zugelassen.\nInteressierte IGS-Mitglieder (insbesondere 
 natürlich Züchter und Deckrüdenbesitzer) sind herzlich eingeladen und könne
 n sich diesen Termin bereits vormerken. \n \n
X-ALT-DESC;FMTTYPE=text/html:<p style="text-align: left;"><strong>Weiterbildung:</strong></p><p style="t
 ext-align: left;">Der Termin für den zweiten Online-Workshop zum Thema "Wie
  kann ich die Ergebnisse der Feragen-Auswertungen für die Zucht nutzen?" st
 eht nun fest: <strong>15. Januar 2025</strong> ab 19.30 Uhr.</p><p style="t
 ext-align: left;">Anmeldung für IGS-Mitglieder per Mail an den <!-- Diese E
 -Mail Adresse ist vor Spambots geschützt. --><a href="https://ig-schapendoe
 s.de/javascript:/* Diese E-Mail Adresse ist vor Spambots gesch&uuml;tzt.*/"
 >Webmaster<span class="cloaked_email ep_2947e554" style="display:none;"><sp
 an data-ep-a="w&#101;&#98;&#109;&#97;" data-ep-b="&#100;&#101;"><span data-
 ep-a="&#115;&#116;&#101;r&#64;" data-ep-b="d&#111;&#101;&#115;&#46;"><span 
 data-ep-b="h&#97;&#112;&#101;&#110;" data-ep-a="i&#103;&#45;&#115;&#99;"></
 span></span></span></span></a><script>RegularLabs.EmailProtector.unCloak("e
 p_2947e554", true);</script></p><p style="text-align: left;">Sie bekommen a
 nschliessend eine Mail mit den Login-Daten für das Teams-Meeting. Die Insta
 llation von Software ist nicht erforderlich.</p><p style="text-align: left;
 ">Im Seminar melden Sie sich bitte mit vollständigem Vor-und Zunamen an. Sp
 itz-, Kurz- oder Aliasnamen sind nicht zugelassen.</p><p style="text-align:
  left;">Interessierte IGS-Mitglieder (insbesondere natürlich Züchter und De
 ckrüdenbesitzer) sind herzlich eingeladen und können sich diesen Termin ber
 eits vormerken. </p><p> </p>
X-EXTRAINFO:Veranstalter: Vorstand und Zuchtkommission der IGS\nZielgruppe: Alle IGS-Mi
 tglieder\n
DTSTAMP:20260421T194121
DTSTART:20250115T183000
DTEND:20250115T203000
SEQUENCE:0
TRANSP:OPAQUE
END:VEVENT
END:VCALENDAR