BEGIN:VCALENDAR
VERSION:2.0
PRODID:-//jEvents 2.0 for Joomla//EN
CALSCALE:GREGORIAN
METHOD:PUBLISH
BEGIN:VEVENT
UID:33c391930cda715242bc59691a2c674f
CATEGORIES:Spaziergänge
CREATED:20250820T212645
SUMMARY:1. Doesje Spaziergang in München 
LOCATION:Aubinger Lohe\, München-Lochhausen
DESCRIPTION:Wir planen den ersten Doesjespaziergang in München.\nWir treffen uns um 11:
 00 Uhr an der Aubinger Lohe.\nParkplatz vor dem Bienenheim, Bienenheimstr. 
 11, 81249 München\nWer dabei sein möchte schreibt mir gerne eine Mail \nReg
 ularLabs.EmailProtector.unCloak("ep_84a6b008"); (javascript:/* Diese E-Mail
  Adresse ist vor Spambots geschützt.*/)RegularLabs.EmailProtector.unCloak("
 ep_75e06b82", true);\n \n
X-ALT-DESC;FMTTYPE=text/html:<p>Wir planen den ersten Doesjespaziergang in München.</p><p>Wir treffen un
 s um 11:00 Uhr an der Aubinger Lohe.</p><p>Parkplatz vor dem Bienenheim, Bi
 enenheimstr. 11, 81249 München</p><p>Wer dabei sein möchte schreibt mir ger
 ne eine Mail <br /><!-- Diese E-Mail Adresse ist vor Spambots geschützt. --
 ><a href="https://ig-schapendoes.de/javascript:/* Diese E-Mail Adresse ist 
 vor Spambots gesch&uuml;tzt.*/"><span class="cloaked_email ep_84a6b008"><sp
 an data-ep-a="&#99;&#108;&#97;&#117;&#100;&#105;" data-ep-b="&#100;&#101;">
 <span data-ep-b="&#110;&#100;&#111;&#101;s&#46;" data-ep-a="&#97;.&#101;y&#
 108;&#105;"><span data-ep-b="&#115;&#99;&#104;&#97;&#112;&#101;" data-ep-a=
 "&#116;z&#64;i&#103;&#45;"></span></span></span></span><script>RegularLabs.
 EmailProtector.unCloak("ep_84a6b008");</script><span class="cloaked_email e
 p_75e06b82" style="display:none;"><span data-ep-b="&#100;&#101;" data-ep-a=
 "&#99;&#108;a&#117;&#100;&#105;"><span data-ep-b="&#110;d&#111;e&#115;&#46;
 " data-ep-a="a.e&#121;&#108;i"><span data-ep-b="&#115;&#99;h&#97;p&#101;" d
 ata-ep-a="&#116;&#122;&#64;&#105;&#103;&#45;"></span></span></span></span><
 /a><script>RegularLabs.EmailProtector.unCloak("ep_75e06b82", true);</script
 ></p><p> </p>
X-EXTRAINFO:Treffpunkt ist auf dem Parkplatz an der Waldwirtschaft Bienenheim Bienenhei
 mstr. 11, 81249 München
DTSTAMP:20260422T103216
DTSTART:20250928T090000
SEQUENCE:0
TRANSP:OPAQUE
END:VEVENT
END:VCALENDAR