BEGIN:VCALENDAR
VERSION:2.0
PRODID:-//jEvents 2.0 for Joomla//EN
CALSCALE:GREGORIAN
METHOD:PUBLISH
BEGIN:VEVENT
UID:d08dceb51fece874b3c89e08644001cb
CATEGORIES:Spaziergänge
CREATED:20260125T225248
SUMMARY:Schapitreffen im Norden
LOCATION:23669 Timmendorf Strand
DESCRIPTION:Wir laden herzlich zu einem entspannten Schapitreffen im Norden ein.\nGemei
 nsam starten wir den Spaziergang vom Niendorfer Vogelpark in Richtung Stran
 d. \nIm Anschluss lassen wir diesen bei einer Keks- und Kuchenrunde auf dem
  Parkplatz ausklingen.\n\nAnmeldungen gerne bei Pauline Wehde unter Regular
 Labs.EmailProtector.unCloak("ep_5b701551");\n
X-ALT-DESC;FMTTYPE=text/html:<p>Wir laden herzlich zu einem entspannten Schapitreffen im Norden ein.</p>
 <p>Gemeinsam starten wir den Spaziergang vom Niendorfer Vogelpark in Richtu
 ng Strand. <br />Im Anschluss lassen wir diesen bei einer Keks- und Kuchenr
 unde auf dem Parkplatz ausklingen.<br /><br />Anmeldungen gerne bei Pauline
  Wehde unter <!-- Diese E-Mail Adresse ist vor Spambots geschützt. --><span
  class="cloaked_email ep_5b701551"><span data-ep-b="&#46;&#100;e" data-ep-a
 ="&#112;&#97;&#117;"><span data-ep-a="&#108;&#105;&#110;" data-ep-b="&#119;
 eb"><span data-ep-b="&#104;&#100;&#64;" data-ep-a="&#101;&#46;w"></span></s
 pan></span></span><script>RegularLabs.EmailProtector.unCloak("ep_5b701551")
 ;</script></p>
X-EXTRAINFO:Parkplatz vom Niendorfer Vogelpark
DTSTAMP:20260421T174758
DTSTART:20260314T120000
SEQUENCE:0
TRANSP:OPAQUE
END:VEVENT
END:VCALENDAR