BEGIN:VCALENDAR
VERSION:2.0
PRODID:-//jEvents 2.0 for Joomla//EN
CALSCALE:GREGORIAN
METHOD:PUBLISH
BEGIN:VEVENT
UID:593e5791ed8021bcd68b3cfd586b6393
CATEGORIES:Seminare
CREATED:20260202T192118
SUMMARY:Neuzüchterseminar
LOCATION:Im Gewerbegebiet 8\, TIP GmbH (1.OG); 85290 Geisenfeld
DESCRIPTION:Anmeldung bitte an RegularLabs.EmailProtector.unCloak("ep_baf76f60"); (java
 script:/* Diese E-Mail Adresse ist vor Spambots geschützt.*/)RegularLabs.Em
 ailProtector.unCloak("ep_d2eab596", true);\nThemen und Einladung (downloads
 /67-seminare)\n
X-ALT-DESC;FMTTYPE=text/html:<p>Anmeldung bitte an <!-- Diese E-Mail Adresse ist vor Spambots geschützt.
  --><a href="https://ig-schapendoes.de/javascript:/* Diese E-Mail Adresse i
 st vor Spambots gesch&uuml;tzt.*/"><span class="cloaked_email ep_baf76f60">
 <span data-ep-b="&#100;&#101;" data-ep-a="&#122;&#117;&#99;&#104;t"><span d
 ata-ep-b="&#100;o&#101;&#115;." data-ep-a="&#98;&#117;&#99;&#104;&#64;"><sp
 an data-ep-b="&#104;&#97;&#112;e&#110;" data-ep-a="&#105;&#103;&#45;&#115;&
 #99;"></span></span></span></span><script>RegularLabs.EmailProtector.unCloa
 k("ep_baf76f60");</script><span class="cloaked_email ep_d2eab596" style="di
 splay:none;"><span data-ep-b="d&#101;" data-ep-a="&#122;&#117;c&#104;&#116;
 "><span data-ep-a="&#98;&#117;&#99;h&#64;" data-ep-b="d&#111;&#101;s&#46;">
 <span data-ep-a="&#105;g-sc" data-ep-b="&#104;&#97;p&#101;&#110;"></span></
 span></span></span></a><script>RegularLabs.EmailProtector.unCloak("ep_d2eab
 596", true);</script></p><p><a href="https://ig-schapendoes.de/downloads/67
 -seminare">Themen und Einladung</a></p>
X-EXTRAINFO:https://ig-schapendoes.de/downloads/67-seminare
DTSTAMP:20260419T175024
DTSTART;VALUE=DATE:20260329
DTEND;VALUE=DATE:20260330
SEQUENCE:0
TRANSP:OPAQUE
END:VEVENT
END:VCALENDAR