BEGIN:VCALENDAR
VERSION:2.0
PRODID:-//jEvents 2.0 for Joomla//EN
CALSCALE:GREGORIAN
METHOD:PUBLISH
BEGIN:VEVENT
UID:441731605fc9927004ca05ea7861cc40
CATEGORIES:Seminare
CREATED:20140618T231416
SUMMARY:Neuzüchterseminar
LOCATION:Alsfeld-Eudorf
DESCRIPTION:Datum: 5. Juli 2014, 8:30 - 14:00 Uhr\n\nAnmeldung an Wilfried Knickmeier. 
 (javascript:/* Diese E-Mail Adresse ist vor Spambots geschützt.*/)RegularLa
 bs.EmailProtector.unCloak("ep_802ac0ec", true);\n
X-ALT-DESC;FMTTYPE=text/html:<p><strong>Datum: 5. Juli 2014, 8:30 - 14:00 Uhr<br /></strong></p><p>Anmel
 dung an<em><strong> <!-- Diese E-Mail Adresse ist vor Spambots geschützt. -
 -><a href="https://ig-schapendoes.de/javascript:/* Diese E-Mail Adresse ist
  vor Spambots gesch&uuml;tzt.*/">Wilfried Knickmeier.<span class="cloaked_e
 mail ep_802ac0ec" style="display:none;"><span data-ep-b="&#100;&#101;" data
 -ep-a="v&#111;&#114;s&#116;"><span data-ep-b="d&#111;&#101;&#115;&#46;" dat
 a-ep-a="&#97;n&#100;&#49;&#64;"><span data-ep-b="&#104;&#97;pe&#110;" data-
 ep-a="i&#103;&#45;s&#99;"></span></span></span></span></a><script>RegularLa
 bs.EmailProtector.unCloak("ep_802ac0ec", true);</script></strong></em></p>
X-EXTRAINFO:\n\n\n
DTSTAMP:20260419T170240
DTSTART:20140705T063000
DTEND:20140705T120000
SEQUENCE:0
TRANSP:OPAQUE
END:VEVENT
END:VCALENDAR