BEGIN:VCALENDAR
VERSION:2.0
PRODID:-//jEvents 2.0 for Joomla//EN
CALSCALE:GREGORIAN
METHOD:PUBLISH
BEGIN:VEVENT
UID:b5b468b839d7ab38c2e893b78f9aa1a3
CATEGORIES:Ausstellungen
CREATED:20140709T223120
SUMMARY:Nachwuchsschau & Inventarisierung
LOCATION:Alsfeld-Eudorf
DESCRIPTION:31. Mai 2015\nRichter: Marion Brosch (D), Hans-Ulrich Häberli (CH)\nInventa
 risierungen: Hartmut Mohr (D)\nSonderleitung: \nKerstin Röllig\nHauptstr.33
 \n86507 Oberottmarshausen\nTel.: 08231/9497404\nmail: RegularLabs.EmailProt
 ector.unCloak("ep_fa474371");RegularLabs.EmailProtector.unCloak("ep_e2a0e01
 9", true);\n  ProgrammSonntag 8:00 Uhr Meldestelle ab 9.00 UhrWiegen und Me
 ssen im kleinen weißen Zelt vor dem Sportheim ab 10.15 Uhr Ring 1 Hr. Häber
 li - Nachwuchsschau Ring 2 Fr. Brosch - NachwuchsschauRing 3 Hr. Mohr - Inv
 entarisierung     \n
X-ALT-DESC;FMTTYPE=text/html:<p><strong>31. Mai 2015</strong></p><p><strong>Richter</strong>: Marion Bro
 sch (D), Hans-Ulrich Häberli (CH)</p><p><strong>Inventarisierungen</strong>
 : Hartmut Mohr (D)</p><p><strong>Sonderleitung</strong>: </p><p>Kerstin Röl
 lig<br />Hauptstr.33<br />86507 Oberottmarshausen<br />Tel.: 08231/9497404<
 br />mail: <!-- Diese E-Mail Adresse ist vor Spambots geschützt. --><a href
 ="https://ig-schapendoes.de/javascript:/* Diese E-Mail Adresse ist vor Spam
 bots gesch&uuml;tzt.*/"><span class="cloaked_email ep_fa474371"><span data-
 ep-b="&#101;" data-ep-a="&#107;&#101;rs"><span data-ep-a="&#116;&#105;n&#11
 4;" data-ep-b="&#109;&#120;.d"><span data-ep-a="o&#101;ll" data-ep-b="&#105
 ;g&#64;&#103;"></span></span></span></span><script>RegularLabs.EmailProtect
 or.unCloak("ep_fa474371");</script><span class="cloaked_email ep_e2a0e019" 
 style="display:none;"><span data-ep-a="&#107;&#101;&#114;&#115;" data-ep-b=
 "e"><span data-ep-b="&#109;&#120;&#46;&#100;" data-ep-a="&#116;&#105;&#110;
 &#114;"><span data-ep-a="&#111;&#101;&#108;&#108;" data-ep-b="i&#103;&#64;&
 #103;"></span></span></span></span></a><script>RegularLabs.EmailProtector.u
 nCloak("ep_e2a0e019", true);</script></p><div style="color: #000000; font-f
 amily: Verdana; line-height: normal;"> </div><div style="color: #000000; fo
 nt-family: Verdana; line-height: normal;"> </div><div style="color: #000000
 ; font-family: Verdana; line-height: normal;"><strong>Programm</strong></di
 v><div style="color: #000000; font-family: Verdana; line-height: normal;"><
 strong>Sonntag</strong></div><div style="color: #000000; font-family: Verda
 na; line-height: normal;"> </div><div style="color: #000000; font-family: V
 erdana; line-height: normal;">8:00 Uhr </div><div style="color: #000000; fo
 nt-family: Verdana; line-height: normal;"><strong>Meldestelle</strong></div
 ><div style="color: #000000; font-family: Verdana; line-height: normal;"> <
 /div><div style="color: #000000; font-family: Verdana; line-height: normal;
 ">ab 9.00 Uhr</div><div style="color: #000000; font-family: Verdana; line-h
 eight: normal;"><strong>Wiegen und Messen</strong> im kleinen weißen Zelt v
 or dem Sportheim</div><div style="color: #000000; font-family: Verdana; lin
 e-height: normal;"> </div><div style="color: #000000; font-family: Verdana;
  line-height: normal;">ab 10.15 Uhr </div><div style="color: #000000; font-
 family: Verdana; line-height: normal;">Ring 1 Hr. Häberli - <strong>Nachwuc
 hsschau </strong></div><div style="color: #000000; font-family: Verdana; li
 ne-height: normal;">Ring 2 Fr. Brosch - <strong>Nachwuchsschau</strong></di
 v><div style="color: #000000; font-family: Verdana; line-height: normal;">R
 ing 3 Hr. Mohr - <strong>Inventarisierung</strong></div><div style="color: 
 #000000; font-family: Verdana; line-height: normal;"> </div><div style="col
 or: #000000; font-family: Verdana; line-height: normal;"> </div><div style=
 "color: #000000; font-family: Verdana; line-height: normal;"> </div><div st
 yle="color: #000000; font-family: Verdana; line-height: normal;"> </div><p>
  </p>
DTSTAMP:20260421T000038
DTSTART;VALUE=DATE:20150531
DTEND;VALUE=DATE:20150601
SEQUENCE:0
TRANSP:OPAQUE
END:VEVENT
END:VCALENDAR