BEGIN:VCALENDAR
VERSION:2.0
PRODID:-//jEvents 2.0 for Joomla//EN
CALSCALE:GREGORIAN
METHOD:PUBLISH
BEGIN:VEVENT
UID:7c53a6292096892447bc63ab935e1303
CATEGORIES:Befreundete Clubs
CREATED:20210831T183251
SUMMARY:75 Jahre VNS
DESCRIPTION:<p><span style="font-size: 12pt;">Informationen <span style="text-decoratio
 n: underline;"><strong><a href="phocadownload/sonstiges/vns75.docx">hier</a
 ></strong></span> zum Download</span></p>
X-ALT-DESC;FMTTYPE=text/html:<p><span style="font-size: 12pt;">Informationen <span style="text-decoratio
 n: underline;"><strong><a href="https://ig-schapendoes.de/phocadownload/son
 stiges/vns75.docx">hier</a></strong></span> zum Download</span></p>
DTSTAMP:20260422T175716
DTSTART;VALUE=DATE:20220819
DTEND;VALUE=DATE:20220821
SEQUENCE:0
TRANSP:OPAQUE
END:VEVENT
END:VCALENDAR