BEGIN:VCALENDAR
VERSION:2.0
PRODID:-//jEvents 2.0 for Joomla//EN
CALSCALE:GREGORIAN
METHOD:PUBLISH
BEGIN:VEVENT
UID:ccd03121e9bda30a4eeef76f4c2978ac
CATEGORIES:Befreundete Clubs
CREATED:20211114T093714
SUMMARY:Klubshow der VNS
DESCRIPTION:Neuer Termin: voraussichtlich 21.08.2022\nAnmeldelink:\nInschrijfformulier 
 (matchlog.nl) (http://vdns.matchlog.nl/index.php)\n \n
X-ALT-DESC;FMTTYPE=text/html:<p><span style="font-size: 10pt;">Neuer Termin: voraussichtlich 21.08.2022<
 /span></p><p><span style="font-size: 10pt;">Anmeldelink:</span></p><p><span
  style="text-decoration: underline; font-size: 10pt; color: #000000;"><stro
 ng><a style="color: #000000; text-decoration: underline;" href="http://vdns
 .matchlog.nl/index.php">Inschrijfformulier (matchlog.nl)</a></strong></span
 ></p><p> </p>
CONTACT:https://www.schapendoes.nl/language/nl/activiteiten/kampioenschaps-clubmatch/kcm-2021
DTSTAMP:20260421T023211
DTSTART;VALUE=DATE:20220821
DTEND;VALUE=DATE:20220822
SEQUENCE:0
TRANSP:OPAQUE
END:VEVENT
END:VCALENDAR