BEGIN:VCALENDAR
VERSION:2.0
PRODID:-//jEvents 2.0 for Joomla//EN
CALSCALE:GREGORIAN
METHOD:PUBLISH
BEGIN:VEVENT
UID:278426aa878553fba20d34d5f250b4c0
CATEGORIES:Befreundete Clubs
CREATED:20240506T170702
SUMMARY:Klubausstellung Luxemburg 
LOCATION:Kuarregaart 9990 Weiswampach Luxembourg
DESCRIPTION:
CONTACT:https://www.onlinedogshows.eu/de/Show/Index/3602/Championnatdes3Fronti_res_2Days2shows
X-EXTRAINFO:01.06.2024 und 02.06.2024\nWohnmobilstellplatz direkt am Ausstellungsstellu
 ngsgelände
DTSTAMP:20260424T221551
DTSTART;VALUE=DATE:20240601
DTEND;VALUE=DATE:20240603
SEQUENCE:0
TRANSP:OPAQUE
END:VEVENT
END:VCALENDAR