BEGIN:VCALENDAR
VERSION:2.0
PRODID:-//jEvents 2.0 for Joomla//EN
CALSCALE:GREGORIAN
METHOD:PUBLISH
BEGIN:VEVENT
UID:14a40bbfd1caa900f8ceabe3f54dc7e0
CATEGORIES:Ausstellungen
CREATED:20231130T180103
SUMMARY:Nachwuchsschau der IGS (I)
LOCATION:Hotel Schäferhof Alsfeld\, Ziegenhainer Straße 30\,
DESCRIPTION:Richterin: Marion Brosch\nzur Anmeldung (veranstaltungen/ausstellungen/anme
 ldung-nachwuchsschau)\n
X-ALT-DESC;FMTTYPE=text/html:<p>Richterin: Marion Brosch</p><p><a href="https://ig-schapendoes.de/verans
 taltungen/ausstellungen/anmeldung-nachwuchsschau">zur Anmeldung</a></p>
DTSTAMP:20260419T142658
DTSTART:20250920T080000
SEQUENCE:0
TRANSP:OPAQUE
END:VEVENT
END:VCALENDAR