BEGIN:VCALENDAR
VERSION:2.0
PRODID:-//jEvents 2.0 for Joomla//EN
CALSCALE:GREGORIAN
METHOD:PUBLISH
BEGIN:VEVENT
UID:f601767b06afca6ae525f7b0bcd8d9a5
CATEGORIES:Ausstellungen
CREATED:20240918T110203
SUMMARY:IGS-Sonderschau Dortmund (I)
DESCRIPTION:Richter:\n09.11. - John Wauben\n10.11. - Beate Nobis\n
X-ALT-DESC;FMTTYPE=text/html:<p>Richter:</p><p>09.11. - John Wauben</p><p>10.11. - Beate Nobis</p>
CONTACT:https://www.onlinedogshows.eu/de/Show/Index/3773/HUND_PFERD_BundessiegerwithCruftsQ_Herbstsieger
DTSTAMP:20260422T130443
DTSTART;VALUE=DATE:20241109
DTEND;VALUE=DATE:20241110
SEQUENCE:0
TRANSP:OPAQUE
END:VEVENT
END:VCALENDAR