BEGIN:VCALENDAR
VERSION:2.0
PRODID:-//jEvents 2.0 for Joomla//EN
CALSCALE:GREGORIAN
METHOD:PUBLISH
BEGIN:VEVENT
UID:9a11c40153c4a13eeed0957098843891
CATEGORIES:Seminare
CREATED:20241018T181853
SUMMARY:Neuzüchterseminar
LOCATION:Alsfeld - Hotel Schäferhof
DESCRIPTION:
DTSTAMP:20260422T013110
DTSTART;VALUE=DATE:20250920
DTEND;VALUE=DATE:20250921
SEQUENCE:0
TRANSP:OPAQUE
END:VEVENT
END:VCALENDAR