BEGIN:VCALENDAR
VERSION:2.0
PRODID:-//jEvents 2.0 for Joomla//EN
CALSCALE:GREGORIAN
METHOD:PUBLISH
BEGIN:VEVENT
UID:1292034fe615f9a27d59e0fa967f54f5
CATEGORIES:Spaziergänge
CREATED:20251101T171200
SUMMARY:2. Schapendoes Spaziergang München "Bergwald"
LOCATION:Jahnstraße\, Oberschleißheim
DESCRIPTION:Wir treffen uns um 11:00 Uhr an der Jahnstraße am Eingang zum Berglwald. Es
  gibt dort genug Parkplätze. Mangels Möglichkeiten ist aktuell keine Einkeh
 r geplant.\nKontakt über mich: RegularLabs.EmailProtector.unCloak("ep_28ae0
 51a");\nEs ist geplant den Spaziergang regelmäßig alle 3 Monate anzubieten.
  \n \n
X-ALT-DESC;FMTTYPE=text/html:<p>Wir treffen uns um 11:00 Uhr an der Jahnstraße am Eingang zum Berglwald.
  Es gibt dort genug Parkplätze. Mangels Möglichkeiten ist aktuell keine Ein
 kehr geplant.</p><p>Kontakt über mich: <a href="mailto:claudia.eylitz@ig-sc
 hapendoes"><!-- Diese E-Mail Adresse ist vor Spambots geschützt. --><span c
 lass="cloaked_email ep_28ae051a"><span data-ep-b="&#100;&#101;" data-ep-a="
 &#99;&#108;&#97;u&#100;&#105;"><span data-ep-a="&#97;&#46;&#101;y&#108;i" d
 ata-ep-b="&#110;d&#111;&#101;&#115;&#46;"><span data-ep-a="&#116;z&#64;&#10
 5;&#103;-" data-ep-b="sc&#104;&#97;&#112;&#101;"></span></span></span></spa
 n><script>RegularLabs.EmailProtector.unCloak("ep_28ae051a");</script></a></
 p><p>Es ist geplant den Spaziergang regelmäßig alle 3 Monate anzubieten. </
 p><p> </p>
DTSTAMP:20260424T231619
DTSTART;VALUE=DATE:20251130
DTEND;VALUE=DATE:20251201
SEQUENCE:0
TRANSP:OPAQUE
END:VEVENT
END:VCALENDAR