BEGIN:VCALENDAR
VERSION:2.0
PRODID:-//jEvents 2.0 for Joomla//EN
CALSCALE:GREGORIAN
METHOD:PUBLISH
BEGIN:VEVENT
UID:32c44a62bc6f08550adcae4b7128102a
CATEGORIES:Spaziergänge
CREATED:20260125T223741
SUMMARY:Schapi Spaziergang in der Aubinger Lohe. 
LOCATION:Bienenheimstraße 11\, 81249 München
DESCRIPTION:ACHTUNG kurzfristig neuer Treffpunkt!\nWir treffen uns in der Aubinger Lohe
 , an der Waldwirtschaft Bienenheim und spazieren ein bis zwei Stunden durch
  die Aubinger Lohe. Im Anschluss können wir uns eine Runde bei Kaffee und K
 uchen austauschen. Wer dabei sein möchte schreibt mir gerne: \niRegularLabs
 .EmailProtector.unCloak("ep_7eba90a9"); (mailto:Claudia.eylitz@ig)  \n
X-ALT-DESC;FMTTYPE=text/html:<p>ACHTUNG kurzfristig neuer Treffpunkt!<br />Wir treffen uns in der Aubing
 er Lohe, an der Waldwirtschaft Bienenheim und spazieren ein bis zwei Stunde
 n durch die Aubinger Lohe. Im Anschluss können wir uns eine Runde bei Kaffe
 e und Kuchen austauschen. Wer dabei sein möchte schreibt mir gerne: <br />i
 <a href="mailto:Claudia.eylitz@ig"><!-- Diese E-Mail Adresse ist vor Spambo
 ts geschützt. --><span class="cloaked_email ep_7eba90a9"><span data-ep-a="&
 #99;l&#97;&#117;&#100;&#105;" data-ep-b="&#100;&#101;"><span data-ep-a="&#9
 7;&#46;&#101;y&#108;i" data-ep-b="n&#100;o&#101;&#115;&#46;"><span data-ep-
 a="&#116;&#122;&#64;&#105;&#103;&#45;" data-ep-b="&#115;&#99;&#104;&#97;p&#
 101;"></span></span></span></span><script>RegularLabs.EmailProtector.unCloa
 k("ep_7eba90a9");</script></a>  </p>
DTSTAMP:20260419T152936
DTSTART:20260301T100000
SEQUENCE:0
TRANSP:OPAQUE
END:VEVENT
END:VCALENDAR