BEGIN:VCALENDAR
VERSION:2.0
PRODID:-//jEvents 2.0 for Joomla//EN
CALSCALE:GREGORIAN
METHOD:PUBLISH
BEGIN:VEVENT
UID:828c33cb321ef9ef886f6046b9356bc5
CATEGORIES:Vereinstermine
CREATED:20221215T222844
SUMMARY:Mitgliederversammlung
LOCATION:Alsfeld
DESCRIPTION:
DTSTAMP:20260425T041335
DTSTART;VALUE=DATE:20230917
DTEND;VALUE=DATE:20230918
SEQUENCE:0
TRANSP:OPAQUE
END:VEVENT
END:VCALENDAR