BEGIN:VCALENDAR
VERSION:2.0
PRODID:-//jEvents 2.0 for Joomla//EN
CALSCALE:GREGORIAN
METHOD:PUBLISH
BEGIN:VEVENT
UID:09378d45236fd0c5ca60bb68f5465d9d
CATEGORIES:Vereinstermine
CREATED:20240108T130533
SUMMARY:Züchtergremiumssitzug
LOCATION:Alsfeld - Eudorf
DESCRIPTION:
DTSTAMP:20260421T175124
DTSTART:20240323T100000
DTEND:20240323T160000
SEQUENCE:0
TRANSP:OPAQUE
END:VEVENT
END:VCALENDAR